Package: metahdep Version: 1.67.0 Command: /home/biocbuild/bbs-3.22-bioc/R/bin/R CMD build --keep-empty-dirs --no-resave-data --md5 metahdep StartedAt: 2025-10-02 18:32:18 -0400 (Thu, 02 Oct 2025) EndedAt: 2025-10-02 18:32:26 -0400 (Thu, 02 Oct 2025) EllapsedTime: 8.0 seconds RetCode: 0 Status: OK PackageFile: metahdep_1.67.0.tar.gz PackageFileSize: 551.7 KiB