Package: metahdep Version: 1.68.0 Command: /Library/Frameworks/R.framework/Resources/bin/R CMD check --install=check:metahdep.install-out.txt --library=/Library/Frameworks/R.framework/Resources/library --no-vignettes --timings metahdep_1.68.0.tar.gz StartedAt: 2025-10-31 22:20:23 -0400 (Fri, 31 Oct 2025) EndedAt: 2025-10-31 22:21:01 -0400 (Fri, 31 Oct 2025) EllapsedTime: 37.8 seconds RetCode: 0 Status: WARNINGS CheckDir: metahdep.Rcheck Warnings: 1