Package: metahdep Version: 1.68.0 Command: /Library/Frameworks/R.framework/Resources/bin/R CMD build --keep-empty-dirs --no-resave-data metahdep StartedAt: 2025-10-31 17:43:45 -0400 (Fri, 31 Oct 2025) EndedAt: 2025-10-31 17:43:59 -0400 (Fri, 31 Oct 2025) EllapsedTime: 13.7 seconds RetCode: 0 Status: OK PackageFile: metahdep_1.68.0.tar.gz PackageFileSize: 550.4 KiB