Package: metahdep Version: 1.68.0 Command: /Library/Frameworks/R.framework/Resources/bin/R CMD build --keep-empty-dirs --no-resave-data metahdep StartedAt: 2025-11-02 16:55:56 -0500 (Sun, 02 Nov 2025) EndedAt: 2025-11-02 16:56:01 -0500 (Sun, 02 Nov 2025) EllapsedTime: 5.1 seconds RetCode: 0 Status: OK PackageFile: metahdep_1.68.0.tar.gz PackageFileSize: 551 KiB