Package: metahdep Version: 1.68.0 Command: rm -rf metahdep.buildbin-libdir && mkdir metahdep.buildbin-libdir && /Users/biocbuild/BBS/utils/build-universal.sh metahdep_1.68.0.tar.gz /Library/Frameworks/R.framework/Resources/bin/R metahdep.buildbin-libdir StartedAt: 2025-10-31 23:13:10 -0400 (Fri, 31 Oct 2025) EndedAt: 2025-10-31 23:13:13 -0400 (Fri, 31 Oct 2025) EllapsedTime: 3.1 seconds RetCode: 0 Status: OK PackageFile: metahdep_1.68.0.tgz PackageFileSize: 651.2 KiB