Package: metabinR Version: 1.12.0 Command: /Library/Frameworks/R.framework/Resources/bin/R CMD build --keep-empty-dirs --no-resave-data metabinR StartedAt: 2025-11-10 16:55:59 -0500 (Mon, 10 Nov 2025) EndedAt: 2025-11-10 16:56:19 -0500 (Mon, 10 Nov 2025) EllapsedTime: 20.2 seconds RetCode: 0 Status: OK PackageFile: metabinR_1.12.0.tar.gz PackageFileSize: 4.389 MiB