Package: metaSeq Version: 1.49.0 Command: /home/biocbuild/bbs-3.22-bioc/R/bin/R CMD INSTALL metaSeq StartedAt: 2025-10-20 15:12:21 -0400 (Mon, 20 Oct 2025) EndedAt: 2025-10-20 15:12:29 -0400 (Mon, 20 Oct 2025) EllapsedTime: 7.2 seconds RetCode: 0 Status: OK