Package: metaSeq Version: 1.49.0 Command: /Library/Frameworks/R.framework/Resources/bin/R CMD build --keep-empty-dirs --no-resave-data metaSeq StartedAt: 2025-10-19 16:54:48 -0400 (Sun, 19 Oct 2025) EndedAt: 2025-10-19 16:54:55 -0400 (Sun, 19 Oct 2025) EllapsedTime: 7.1 seconds RetCode: 0 Status: OK PackageFile: metaSeq_1.49.0.tar.gz PackageFileSize: 6.198 MiB