Package: metaSeq Version: 1.49.0 Maintainer: Koki Tsuyuzaki MaintainerEmail: k.t.the-answer at hotmail.co.jp git_url: https://git.bioconductor.org/packages/metaSeq git_branch: devel git_last_commit: eeed9d8 git_last_commit_date: 2025-04-15 10:27:31 -0400 (Tue, 15 Apr 2025)