Package: metaMS Version: 1.45.0 Command: /home/biocbuild/R/R/bin/R CMD INSTALL metaMS StartedAt: 2025-10-16 22:07:47 -0000 (Thu, 16 Oct 2025) EndedAt: 2025-10-16 22:08:50 -0000 (Thu, 16 Oct 2025) EllapsedTime: 63.5 seconds RetCode: 0 Status: OK