Package: metaMS Version: 1.45.0 Command: F:\biocbuild\bbs-3.22-bioc\R\bin\R.exe CMD INSTALL metaMS StartedAt: 2025-08-14 16:38:19 -0400 (Thu, 14 Aug 2025) EndedAt: 2025-08-14 16:39:22 -0400 (Thu, 14 Aug 2025) EllapsedTime: 63.5 seconds RetCode: 0 Status: OK