Package: metaMS Version: 1.45.0 Command: rm -rf metaMS.buildbin-libdir && mkdir metaMS.buildbin-libdir && F:\biocbuild\bbs-3.22-bioc\R\bin\R.exe CMD INSTALL --build --library=metaMS.buildbin-libdir metaMS_1.45.0.tar.gz StartedAt: 2025-08-15 10:39:45 -0400 (Fri, 15 Aug 2025) EndedAt: 2025-08-15 10:41:05 -0400 (Fri, 15 Aug 2025) EllapsedTime: 79.5 seconds RetCode: 0 Status: OK PackageFile: metaMS_1.45.0.zip PackageFileSize: 4.034 MiB