Package: metaMS Version: 1.46.0 Command: /Library/Frameworks/R.framework/Resources/bin/R CMD INSTALL metaMS StartedAt: 2025-11-02 15:50:26 -0500 (Sun, 02 Nov 2025) EndedAt: 2025-11-02 15:51:33 -0500 (Sun, 02 Nov 2025) EllapsedTime: 66.6 seconds RetCode: 0 Status: OK