Package: metaMS Version: 1.45.0 Command: /Library/Frameworks/R.framework/Resources/bin/R CMD check --install=check:metaMS.install-out.txt --library=/Library/Frameworks/R.framework/Resources/library --no-vignettes --timings metaMS_1.45.0.tar.gz StartedAt: 2025-10-21 20:36:07 -0400 (Tue, 21 Oct 2025) EndedAt: 2025-10-21 20:38:32 -0400 (Tue, 21 Oct 2025) EllapsedTime: 145.7 seconds RetCode: 0 Status: OK CheckDir: metaMS.Rcheck Warnings: 0