Package: metaMS Version: 1.45.0 Command: rm -rf metaMS.buildbin-libdir && mkdir metaMS.buildbin-libdir && /Users/biocbuild/BBS/utils/build-universal.sh metaMS_1.45.0.tar.gz /Library/Frameworks/R.framework/Resources/bin/R metaMS.buildbin-libdir StartedAt: 2025-10-21 23:07:10 -0400 (Tue, 21 Oct 2025) EndedAt: 2025-10-21 23:07:32 -0400 (Tue, 21 Oct 2025) EllapsedTime: 21.4 seconds RetCode: 0 Status: OK PackageFile: metaMS_1.45.0.tgz PackageFileSize: 4.296 MiB