Package: metaCCA Version: 1.37.0 Command: /home/biocbuild/R/R/bin/R CMD INSTALL metaCCA StartedAt: 2025-10-16 21:08:00 -0000 (Thu, 16 Oct 2025) EndedAt: 2025-10-16 21:08:19 -0000 (Thu, 16 Oct 2025) EllapsedTime: 19.5 seconds RetCode: 0 Status: OK