Package: metaCCA Version: 1.37.0 Command: /home/biocbuild/R/R/bin/R CMD check --install=check:metaCCA.install-out.txt --library=/home/biocbuild/R/R/site-library --no-vignettes --timings metaCCA_1.37.0.tar.gz StartedAt: 2025-10-17 10:49:29 -0000 (Fri, 17 Oct 2025) EndedAt: 2025-10-17 10:49:48 -0000 (Fri, 17 Oct 2025) EllapsedTime: 19.0 seconds RetCode: 0 Status: WARNINGS CheckDir: metaCCA.Rcheck Warnings: 1