Package: metaCCA Version: 1.37.0 Command: rm -rf metaCCA.buildbin-libdir && mkdir metaCCA.buildbin-libdir && /Users/biocbuild/BBS/utils/build-universal.sh metaCCA_1.37.0.tar.gz /Library/Frameworks/R.framework/Resources/bin/R metaCCA.buildbin-libdir StartedAt: 2025-10-16 23:07:21 -0400 (Thu, 16 Oct 2025) EndedAt: 2025-10-16 23:07:23 -0400 (Thu, 16 Oct 2025) EllapsedTime: 2.0 seconds RetCode: 0 Status: OK PackageFile: metaCCA_1.37.0.tgz PackageFileSize: 973.5 KiB