Package: meshes Version: 1.35.0 Command: chmod a+r meshes -R && F:\biocbuild\bbs-3.22-bioc\R\bin\R.exe CMD build --keep-empty-dirs --no-resave-data meshes StartedAt: 2025-08-14 21:18:29 -0400 (Thu, 14 Aug 2025) EndedAt: 2025-08-14 21:19:11 -0400 (Thu, 14 Aug 2025) EllapsedTime: 42.0 seconds RetCode: 0 Status: OK PackageFile: meshes_1.35.0.tar.gz PackageFileSize: 922.1 KiB