Package: meshes Version: 1.35.0 Command: rm -rf meshes.buildbin-libdir && mkdir meshes.buildbin-libdir && F:\biocbuild\bbs-3.22-bioc\R\bin\R.exe CMD INSTALL --build --library=meshes.buildbin-libdir meshes_1.35.0.tar.gz StartedAt: 2025-08-15 10:39:06 -0400 (Fri, 15 Aug 2025) EndedAt: 2025-08-15 10:39:40 -0400 (Fri, 15 Aug 2025) EllapsedTime: 34.5 seconds RetCode: 0 Status: OK PackageFile: meshes_1.35.0.zip PackageFileSize: 1.3 MiB