Package: meshes Version: 1.35.0 Command: /home/biocbuild/bbs-3.22-bioc/R/bin/R CMD INSTALL meshes StartedAt: 2025-10-21 15:50:27 -0400 (Tue, 21 Oct 2025) EndedAt: 2025-10-21 15:50:54 -0400 (Tue, 21 Oct 2025) EllapsedTime: 27.3 seconds RetCode: 0 Status: OK