Package: meshes Version: 1.35.0 Command: /Library/Frameworks/R.framework/Resources/bin/R CMD INSTALL meshes StartedAt: 2025-10-23 15:45:08 -0400 (Thu, 23 Oct 2025) EndedAt: 2025-10-23 15:45:44 -0400 (Thu, 23 Oct 2025) EllapsedTime: 36.7 seconds RetCode: 0 Status: OK