Package: meshes Version: 1.35.0 Command: rm -rf meshes.buildbin-libdir && mkdir meshes.buildbin-libdir && /Users/biocbuild/BBS/utils/build-universal.sh meshes_1.35.0.tar.gz /Library/Frameworks/R.framework/Resources/bin/R meshes.buildbin-libdir StartedAt: 2025-10-24 01:42:34 -0400 (Fri, 24 Oct 2025) EndedAt: 2025-10-24 01:43:14 -0400 (Fri, 24 Oct 2025) EllapsedTime: 39.5 seconds RetCode: 0 Status: OK PackageFile: meshes_1.35.0.tgz PackageFileSize: 1.296 MiB