Package: memes Version: 1.17.2 Command: rm -rf memes.buildbin-libdir && mkdir memes.buildbin-libdir && /Users/biocbuild/BBS/utils/build-universal.sh memes_1.17.2.tar.gz /Library/Frameworks/R.framework/Resources/bin/R memes.buildbin-libdir StartedAt: 2025-10-25 01:48:23 -0400 (Sat, 25 Oct 2025) EndedAt: 2025-10-25 01:48:47 -0400 (Sat, 25 Oct 2025) EllapsedTime: 24.0 seconds RetCode: 0 Status: OK PackageFile: memes_1.17.2.tgz PackageFileSize: 1.214 MiB