Package: memes Version: 1.18.0 Command: rm -rf memes.buildbin-libdir && mkdir memes.buildbin-libdir && /Users/biocbuild/BBS/utils/build-universal.sh memes_1.18.0.tar.gz /Library/Frameworks/R.framework/Resources/bin/R memes.buildbin-libdir StartedAt: 2025-10-30 23:06:33 -0400 (Thu, 30 Oct 2025) EndedAt: 2025-10-30 23:06:41 -0400 (Thu, 30 Oct 2025) EllapsedTime: 7.1 seconds RetCode: 0 Status: OK PackageFile: memes_1.18.0.tgz PackageFileSize: 1.217 MiB