Package: memes Version: 1.17.2 Maintainer: Spencer Nystrom MaintainerEmail: nystromdev at gmail.com git_url: https://git.bioconductor.org/packages/memes git_branch: devel git_last_commit: cd106cf git_last_commit_date: 2025-07-28 14:56:05 -0400 (Mon, 28 Jul 2025)