Package: mdqc Version: 1.71.0 Command: /Library/Frameworks/R.framework/Resources/bin/R CMD INSTALL mdqc StartedAt: 2025-09-30 15:04:50 -0400 (Tue, 30 Sep 2025) EndedAt: 2025-09-30 15:05:31 -0400 (Tue, 30 Sep 2025) EllapsedTime: 41.7 seconds RetCode: 0 Status: OK