Package: mdqc Version: 1.72.0 Command: /Library/Frameworks/R.framework/Resources/bin/R CMD INSTALL mdqc StartedAt: 2025-10-31 15:05:02 -0400 (Fri, 31 Oct 2025) EndedAt: 2025-10-31 15:05:07 -0400 (Fri, 31 Oct 2025) EllapsedTime: 5.0 seconds RetCode: 0 Status: OK