Package: mdqc Version: 1.72.0 Command: /Library/Frameworks/R.framework/Resources/bin/R CMD check --install=check:mdqc.install-out.txt --library=/Library/Frameworks/R.framework/Resources/library --no-vignettes --timings mdqc_1.72.0.tar.gz StartedAt: 2025-11-06 20:34:20 -0500 (Thu, 06 Nov 2025) EndedAt: 2025-11-06 20:34:31 -0500 (Thu, 06 Nov 2025) EllapsedTime: 11.2 seconds RetCode: 0 Status: OK CheckDir: mdqc.Rcheck Warnings: 0