Package: mdqc Version: 1.72.0 Command: rm -rf mdqc.buildbin-libdir && mkdir mdqc.buildbin-libdir && /Users/biocbuild/BBS/utils/build-universal.sh mdqc_1.72.0.tar.gz /Library/Frameworks/R.framework/Resources/bin/R mdqc.buildbin-libdir StartedAt: 2025-10-31 23:12:49 -0400 (Fri, 31 Oct 2025) EndedAt: 2025-10-31 23:12:51 -0400 (Fri, 31 Oct 2025) EllapsedTime: 2.0 seconds RetCode: 0 Status: OK PackageFile: mdqc_1.72.0.tgz PackageFileSize: 297.7 KiB