Package: mbQTL Version: 1.9.0 Command: /home/biocbuild/R/R/bin/R CMD INSTALL mbQTL StartedAt: 2025-10-16 21:25:18 -0000 (Thu, 16 Oct 2025) EndedAt: 2025-10-16 21:25:32 -0000 (Thu, 16 Oct 2025) EllapsedTime: 13.7 seconds RetCode: 0 Status: OK