Package: mbQTL Version: 1.9.0 Command: /home/biocbuild/R/R/bin/R CMD build --keep-empty-dirs --no-resave-data mbQTL StartedAt: 2025-10-17 02:25:08 -0000 (Fri, 17 Oct 2025) EndedAt: 2025-10-17 02:26:49 -0000 (Fri, 17 Oct 2025) EllapsedTime: 101.0 seconds RetCode: 0 Status: OK PackageFile: mbQTL_1.9.0.tar.gz PackageFileSize: 926.5 KiB