Package: mbQTL Version: 1.9.0 Command: chmod a+r mbQTL -R && F:\biocbuild\bbs-3.22-bioc\R\bin\R.exe CMD build --keep-empty-dirs --no-resave-data mbQTL StartedAt: 2025-08-14 21:16:17 -0400 (Thu, 14 Aug 2025) EndedAt: 2025-08-14 21:18:05 -0400 (Thu, 14 Aug 2025) EllapsedTime: 108.0 seconds RetCode: 0 Status: OK PackageFile: mbQTL_1.9.0.tar.gz PackageFileSize: 731.5 KiB