Package: mbQTL Version: 1.9.0 Command: rm -rf mbQTL.buildbin-libdir && mkdir mbQTL.buildbin-libdir && F:\biocbuild\bbs-3.22-bioc\R\bin\R.exe CMD INSTALL --build --library=mbQTL.buildbin-libdir mbQTL_1.9.0.tar.gz StartedAt: 2025-08-15 10:38:23 -0400 (Fri, 15 Aug 2025) EndedAt: 2025-08-15 10:38:40 -0400 (Fri, 15 Aug 2025) EllapsedTime: 17.7 seconds RetCode: 0 Status: OK PackageFile: mbQTL_1.9.0.zip PackageFileSize: 785.6 KiB