Package: mbQTL Version: 1.9.0 Command: /home/biocbuild/bbs-3.22-bioc/R/bin/R CMD check --install=check:mbQTL.install-out.txt --library=/home/biocbuild/bbs-3.22-bioc/R/site-library --timings mbQTL_1.9.0.tar.gz StartedAt: 2025-10-20 01:34:08 -0400 (Mon, 20 Oct 2025) EndedAt: 2025-10-20 01:36:28 -0400 (Mon, 20 Oct 2025) EllapsedTime: 140.1 seconds RetCode: 0 Status: OK CheckDir: mbQTL.Rcheck Warnings: 0