Package: mbQTL Version: 1.9.0 Command: /Library/Frameworks/R.framework/Resources/bin/R CMD INSTALL mbQTL StartedAt: 2025-10-19 15:17:12 -0400 (Sun, 19 Oct 2025) EndedAt: 2025-10-19 15:17:28 -0400 (Sun, 19 Oct 2025) EllapsedTime: 15.6 seconds RetCode: 0 Status: OK