Package: mbQTL Version: 1.9.0 Command: /Library/Frameworks/R.framework/Resources/bin/R CMD check --install=check:mbQTL.install-out.txt --library=/Library/Frameworks/R.framework/Resources/library --no-vignettes --timings mbQTL_1.9.0.tar.gz StartedAt: 2025-10-19 23:33:01 -0400 (Sun, 19 Oct 2025) EndedAt: 2025-10-19 23:34:59 -0400 (Sun, 19 Oct 2025) EllapsedTime: 118.2 seconds RetCode: 0 Status: OK CheckDir: mbQTL.Rcheck Warnings: 0