Package: mbQTL Version: 1.9.0 Command: rm -rf mbQTL.buildbin-libdir && mkdir mbQTL.buildbin-libdir && /Users/biocbuild/BBS/utils/build-universal.sh mbQTL_1.9.0.tar.gz /Library/Frameworks/R.framework/Resources/bin/R mbQTL.buildbin-libdir StartedAt: 2025-10-20 03:17:19 -0400 (Mon, 20 Oct 2025) EndedAt: 2025-10-20 03:17:38 -0400 (Mon, 20 Oct 2025) EllapsedTime: 18.7 seconds RetCode: 0 Status: OK PackageFile: mbQTL_1.9.0.tgz PackageFileSize: 1.511 MiB