Package: maskBAD Version: 1.53.0 Command: /home/biocbuild/R/R/bin/R CMD INSTALL maskBAD StartedAt: 2025-10-20 21:19:40 -0000 (Mon, 20 Oct 2025) EndedAt: 2025-10-20 21:19:55 -0000 (Mon, 20 Oct 2025) EllapsedTime: 14.5 seconds RetCode: 0 Status: OK