Package: maskBAD Version: 1.53.0 Command: F:\biocbuild\bbs-3.22-bioc\R\bin\R.exe CMD check --no-multiarch --install=check:maskBAD.install-out.txt --library=F:\biocbuild\bbs-3.22-bioc\R\library --no-vignettes --timings maskBAD_1.53.0.tar.gz StartedAt: 2025-08-15 04:45:57 -0400 (Fri, 15 Aug 2025) EndedAt: 2025-08-15 04:47:45 -0400 (Fri, 15 Aug 2025) EllapsedTime: 108.5 seconds RetCode: 0 Status: OK CheckDir: maskBAD.Rcheck Warnings: 0