Package: maskBAD Version: 1.53.0 Command: chmod a+r maskBAD -R && F:\biocbuild\bbs-3.22-bioc\R\bin\R.exe CMD build --keep-empty-dirs --no-resave-data maskBAD StartedAt: 2025-08-14 21:13:49 -0400 (Thu, 14 Aug 2025) EndedAt: 2025-08-14 21:15:39 -0400 (Thu, 14 Aug 2025) EllapsedTime: 110.0 seconds RetCode: 0 Status: OK PackageFile: maskBAD_1.53.0.tar.gz PackageFileSize: 1.371 MiB