Package: maskBAD Version: 1.53.0 Command: /home/biocbuild/bbs-3.22-bioc/R/bin/R CMD check --install=check:maskBAD.install-out.txt --library=/home/biocbuild/bbs-3.22-bioc/R/site-library --timings maskBAD_1.53.0.tar.gz StartedAt: 2025-10-20 01:31:10 -0400 (Mon, 20 Oct 2025) EndedAt: 2025-10-20 01:33:21 -0400 (Mon, 20 Oct 2025) EllapsedTime: 130.2 seconds RetCode: 0 Status: OK CheckDir: maskBAD.Rcheck Warnings: 0