Package: maser Version: 1.28.0 Command: /Library/Frameworks/R.framework/Resources/bin/R CMD check --install=check:maser.install-out.txt --library=/Library/Frameworks/R.framework/Resources/library --no-vignettes --timings maser_1.28.0.tar.gz StartedAt: 2025-11-06 20:31:37 -0500 (Thu, 06 Nov 2025) EndedAt: 2025-11-06 20:34:09 -0500 (Thu, 06 Nov 2025) EllapsedTime: 151.8 seconds RetCode: 0 Status: OK CheckDir: maser.Rcheck Warnings: 0