Package: martini Version: 1.29.0 Command: F:\biocbuild\bbs-3.22-bioc\R\bin\R.exe CMD check --no-multiarch --install=check:martini.install-out.txt --library=F:\biocbuild\bbs-3.22-bioc\R\library --no-vignettes --timings martini_1.29.0.tar.gz StartedAt: 2025-08-15 04:45:22 -0400 (Fri, 15 Aug 2025) EndedAt: 2025-08-15 04:48:53 -0400 (Fri, 15 Aug 2025) EllapsedTime: 210.7 seconds RetCode: 0 Status: OK CheckDir: martini.Rcheck Warnings: 0