Package: martini Version: 1.30.0 Command: /Library/Frameworks/R.framework/Resources/bin/R CMD check --install=check:martini.install-out.txt --library=/Library/Frameworks/R.framework/Resources/library --no-vignettes --timings martini_1.30.0.tar.gz StartedAt: 2025-11-03 22:14:24 -0500 (Mon, 03 Nov 2025) EndedAt: 2025-11-03 22:18:18 -0500 (Mon, 03 Nov 2025) EllapsedTime: 234.6 seconds RetCode: 0 Status: OK CheckDir: martini.Rcheck Warnings: 0