Package: martini Version: 1.30.0 Command: /Library/Frameworks/R.framework/Resources/bin/R CMD build --keep-empty-dirs --no-resave-data martini StartedAt: 2025-11-03 17:36:18 -0500 (Mon, 03 Nov 2025) EndedAt: 2025-11-03 17:36:49 -0500 (Mon, 03 Nov 2025) EllapsedTime: 30.9 seconds RetCode: 0 Status: OK PackageFile: martini_1.30.0.tar.gz PackageFileSize: 3.01 MiB