Package: marray Version: 1.87.0 Command: /home/biocbuild/bbs-3.22-bioc/R/bin/R CMD INSTALL marray StartedAt: 2025-10-20 15:01:51 -0400 (Mon, 20 Oct 2025) EndedAt: 2025-10-20 15:02:03 -0400 (Mon, 20 Oct 2025) EllapsedTime: 11.9 seconds RetCode: 0 Status: OK