Package: marray Version: 1.87.0 Command: /Library/Frameworks/R.framework/Resources/bin/R CMD build --keep-empty-dirs --no-resave-data marray StartedAt: 2025-10-19 17:54:07 -0400 (Sun, 19 Oct 2025) EndedAt: 2025-10-19 17:55:39 -0400 (Sun, 19 Oct 2025) EllapsedTime: 92.8 seconds RetCode: 0 Status: OK PackageFile: marray_1.87.0.tar.gz PackageFileSize: 5.628 MiB