Package: marray Version: 1.87.0 Command: /Library/Frameworks/R.framework/Resources/bin/R CMD INSTALL marray StartedAt: 2025-10-19 15:01:34 -0400 (Sun, 19 Oct 2025) EndedAt: 2025-10-19 15:01:37 -0400 (Sun, 19 Oct 2025) EllapsedTime: 3.9 seconds RetCode: 0 Status: OK