Package: marray Version: 1.87.0 Command: /Library/Frameworks/R.framework/Resources/bin/R CMD build --keep-empty-dirs --no-resave-data marray StartedAt: 2025-10-19 16:51:13 -0400 (Sun, 19 Oct 2025) EndedAt: 2025-10-19 16:51:37 -0400 (Sun, 19 Oct 2025) EllapsedTime: 24.3 seconds RetCode: 0 Status: OK PackageFile: marray_1.87.0.tar.gz PackageFileSize: 5.637 MiB